BEGIN:VCALENDAR
VERSION:2.0
PRODID:-//Rotary Club of Princeton, IL - ECPv6.3.0//NONSGML v1.0//EN
CALSCALE:GREGORIAN
METHOD:PUBLISH
X-WR-CALNAME:Rotary Club of Princeton, IL
X-ORIGINAL-URL:https://princetonrotaryclub.com
X-WR-CALDESC:Events for Rotary Club of Princeton, IL
REFRESH-INTERVAL;VALUE=DURATION:PT1H
X-Robots-Tag:noindex
X-PUBLISHED-TTL:PT1H
BEGIN:VTIMEZONE
TZID:America/Chicago
BEGIN:DAYLIGHT
TZOFFSETFROM:-0600
TZOFFSETTO:-0500
TZNAME:CDT
DTSTART:20250309T080000
END:DAYLIGHT
BEGIN:STANDARD
TZOFFSETFROM:-0500
TZOFFSETTO:-0600
TZNAME:CST
DTSTART:20251102T070000
END:STANDARD
END:VTIMEZONE
BEGIN:VEVENT
DTSTART;TZID=America/Chicago:20251007T114500
DTEND;TZID=America/Chicago:20251007T130000
DTSTAMP:20260419T132846
CREATED:20251017T034245Z
LAST-MODIFIED:20251017T034245Z
UID:1340-1759837500-1759842000@princetonrotaryclub.com
SUMMARY:Club Meeting
DESCRIPTION:Chief Tom Kammerer will talk about community partnerships.  We are meeting at the Princeton Police Department\, and pizza is being provided!
URL:https://princetonrotaryclub.com/calendar/club-meeting-123/
LOCATION:Princeton Police Department\, 605 Elm Place\, Princeton\, 61356\, United States
END:VEVENT
END:VCALENDAR