BEGIN:VCALENDAR
VERSION:2.0
PRODID:-//Rotary Club of Princeton, IL - ECPv6.3.0//NONSGML v1.0//EN
CALSCALE:GREGORIAN
METHOD:PUBLISH
X-WR-CALNAME:Rotary Club of Princeton, IL
X-ORIGINAL-URL:https://princetonrotaryclub.com
X-WR-CALDESC:Events for Rotary Club of Princeton, IL
REFRESH-INTERVAL;VALUE=DURATION:PT1H
X-Robots-Tag:noindex
X-PUBLISHED-TTL:PT1H
BEGIN:VTIMEZONE
TZID:America/Chicago
BEGIN:DAYLIGHT
TZOFFSETFROM:-0600
TZOFFSETTO:-0500
TZNAME:CDT
DTSTART:20250309T080000
END:DAYLIGHT
BEGIN:STANDARD
TZOFFSETFROM:-0500
TZOFFSETTO:-0600
TZNAME:CST
DTSTART:20251102T070000
END:STANDARD
END:VTIMEZONE
BEGIN:VEVENT
DTSTART;TZID=America/Chicago:20250701T114500
DTEND;TZID=America/Chicago:20250701T130000
DTSTAMP:20260419T082503
CREATED:20250715T194721Z
LAST-MODIFIED:20250715T194721Z
UID:1268-1751370300-1751374800@princetonrotaryclub.com
SUMMARY:Club Meeting
DESCRIPTION:Steve Bouslog will share goals for 2025-2026.
URL:https://princetonrotaryclub.com/calendar/club-meeting-110/
LOCATION:Ye Olde Underground Inn\, 219 S. 6th St.\, Princeton\, IL\, 61356\, United States
END:VEVENT
BEGIN:VEVENT
DTSTART;TZID=America/Chicago:20250708T114500
DTEND;TZID=America/Chicago:20250708T130000
DTSTAMP:20260419T082503
CREATED:20250715T194814Z
LAST-MODIFIED:20250715T194814Z
UID:1270-1751975100-1751979600@princetonrotaryclub.com
SUMMARY:Club Meeting
DESCRIPTION:Angie Reidner with Bureau County Family Health will be our guest!
URL:https://princetonrotaryclub.com/calendar/club-meeting-111/
LOCATION:Ye Olde Underground Inn\, 219 S. 6th St.\, Princeton\, IL\, 61356\, United States
END:VEVENT
BEGIN:VEVENT
DTSTART;TZID=America/Chicago:20250715T114500
DTEND;TZID=America/Chicago:20250715T130000
DTSTAMP:20260419T082503
CREATED:20250715T194923Z
LAST-MODIFIED:20250715T194923Z
UID:1272-1752579900-1752584400@princetonrotaryclub.com
SUMMARY:Club Meeting
DESCRIPTION:Joe Birkey\, Bureau County Treasurer\, will speak on the role of the County Treasurer.
URL:https://princetonrotaryclub.com/calendar/club-meeting-112/
LOCATION:Ye Olde Underground Inn\, 219 S. 6th St.\, Princeton\, IL\, 61356\, United States
END:VEVENT
BEGIN:VEVENT
DTSTART;TZID=America/Chicago:20250722T114500
DTEND;TZID=America/Chicago:20250722T130000
DTSTAMP:20260419T082503
CREATED:20250715T195325Z
LAST-MODIFIED:20250715T195325Z
UID:1274-1753184700-1753189200@princetonrotaryclub.com
SUMMARY:Club Meeting
DESCRIPTION:Megan Skelly\, District 6420 Rotary Youth Exchange Chair\, will be our guest.
URL:https://princetonrotaryclub.com/calendar/club-meeting-113/
LOCATION:Ye Olde Underground Inn\, 219 S. 6th St.\, Princeton\, IL\, 61356\, United States
END:VEVENT
BEGIN:VEVENT
DTSTART;TZID=America/Chicago:20250729T114500
DTEND;TZID=America/Chicago:20250729T130000
DTSTAMP:20260419T082503
CREATED:20250715T195414Z
LAST-MODIFIED:20250715T195414Z
UID:1276-1753789500-1753794000@princetonrotaryclub.com
SUMMARY:Club Meeting
DESCRIPTION:Kathy Bauer will talk about the Bureau County Fair.
URL:https://princetonrotaryclub.com/calendar/club-meeting-114/
LOCATION:Ye Olde Underground Inn\, 219 S. 6th St.\, Princeton\, IL\, 61356\, United States
END:VEVENT
END:VCALENDAR